BEGIN:VCALENDAR
VERSION:2.0
PRODID:-//ABATE of Ohio Inc. - ECPv6.15.18//NONSGML v1.0//EN
CALSCALE:GREGORIAN
METHOD:PUBLISH
X-ORIGINAL-URL:https://dev423.robintek.com
X-WR-CALDESC:Events for ABATE of Ohio Inc.
REFRESH-INTERVAL;VALUE=DURATION:PT1H
X-Robots-Tag:noindex
X-PUBLISHED-TTL:PT1H
BEGIN:VTIMEZONE
TZID:America/New_York
BEGIN:DAYLIGHT
TZOFFSETFROM:-0500
TZOFFSETTO:-0400
TZNAME:EDT
DTSTART:20250309T070000
END:DAYLIGHT
BEGIN:STANDARD
TZOFFSETFROM:-0400
TZOFFSETTO:-0500
TZNAME:EST
DTSTART:20251102T060000
END:STANDARD
BEGIN:DAYLIGHT
TZOFFSETFROM:-0500
TZOFFSETTO:-0400
TZNAME:EDT
DTSTART:20260308T070000
END:DAYLIGHT
BEGIN:STANDARD
TZOFFSETFROM:-0400
TZOFFSETTO:-0500
TZNAME:EST
DTSTART:20261101T060000
END:STANDARD
BEGIN:DAYLIGHT
TZOFFSETFROM:-0500
TZOFFSETTO:-0400
TZNAME:EDT
DTSTART:20270314T070000
END:DAYLIGHT
BEGIN:STANDARD
TZOFFSETFROM:-0400
TZOFFSETTO:-0500
TZNAME:EST
DTSTART:20271107T060000
END:STANDARD
END:VTIMEZONE
BEGIN:VEVENT
DTSTART;TZID=America/New_York:20260516T110000
DTEND;TZID=America/New_York:20260516T210000
DTSTAMP:20260423T111017
CREATED:20260106T200850Z
LAST-MODIFIED:20260106T202052Z
UID:4197-1778929200-1778965200@dev423.robintek.com
SUMMARY:Region 8 Dice Run
DESCRIPTION:registration begins @ 11 am \nlast bike out @ 12 pm \nlast bike in @ 5:30 pm \n$15 single / $25 couple
URL:https://dev423.robintek.com/event/region-8-dice-run/
LOCATION:Whiskey Stop\, 6509 Columbus Rd NE\, Louisville\, Ohio\, 44641
ATTACH;FMTTYPE=image/jpeg:https://dev423.robintek.com/wp-content/uploads/2026/01/R8-Dice-Run-2026.jpg
END:VEVENT
END:VCALENDAR