BEGIN:VCALENDAR
VERSION:2.0
PRODID:-//ABATE of Ohio Inc. - ECPv6.15.18//NONSGML v1.0//EN
CALSCALE:GREGORIAN
METHOD:PUBLISH
X-ORIGINAL-URL:https://dev423.robintek.com
X-WR-CALDESC:Events for ABATE of Ohio Inc.
REFRESH-INTERVAL;VALUE=DURATION:PT1H
X-Robots-Tag:noindex
X-PUBLISHED-TTL:PT1H
BEGIN:VTIMEZONE
TZID:America/New_York
BEGIN:DAYLIGHT
TZOFFSETFROM:-0500
TZOFFSETTO:-0400
TZNAME:EDT
DTSTART:20250309T070000
END:DAYLIGHT
BEGIN:STANDARD
TZOFFSETFROM:-0400
TZOFFSETTO:-0500
TZNAME:EST
DTSTART:20251102T060000
END:STANDARD
BEGIN:DAYLIGHT
TZOFFSETFROM:-0500
TZOFFSETTO:-0400
TZNAME:EDT
DTSTART:20260308T070000
END:DAYLIGHT
BEGIN:STANDARD
TZOFFSETFROM:-0400
TZOFFSETTO:-0500
TZNAME:EST
DTSTART:20261101T060000
END:STANDARD
BEGIN:DAYLIGHT
TZOFFSETFROM:-0500
TZOFFSETTO:-0400
TZNAME:EDT
DTSTART:20270314T070000
END:DAYLIGHT
BEGIN:STANDARD
TZOFFSETFROM:-0400
TZOFFSETTO:-0500
TZNAME:EST
DTSTART:20271107T060000
END:STANDARD
END:VTIMEZONE
BEGIN:VEVENT
DTSTART;TZID=America/New_York:20260502T100000
DTEND;TZID=America/New_York:20260502T180000
DTSTAMP:20260423T094408
CREATED:20260312T201435Z
LAST-MODIFIED:20260312T201435Z
UID:4570-1777716000-1777744800@dev423.robintek.com
SUMMARY:ABATE of OHIO\, INC  STATE SEMINAR  MAY 2\, 2026
DESCRIPTION:SEMINER is 100% FREE this year \nOvernight Reservations : 866-233-9393
URL:https://dev423.robintek.com/event/abate-of-ohio-inc-state-seminar-may-2-2026/
LOCATION:The Ohioan Hotel and Event Center\, 100 Green Meadows Drive South\, Lewis Center\, OH\, 43035\, United States
ATTACH;FMTTYPE=image/jpeg:https://dev423.robintek.com/wp-content/uploads/2026/03/State-Seminar-2026-1.jpg
END:VEVENT
BEGIN:VEVENT
DTSTART;TZID=America/New_York:20260502T100000
DTEND;TZID=America/New_York:20260502T180000
DTSTAMP:20260423T094408
CREATED:20260312T202339Z
LAST-MODIFIED:20260312T202339Z
UID:4576-1777716000-1777744800@dev423.robintek.com
SUMMARY:page 2 State Seminar
DESCRIPTION:
URL:https://dev423.robintek.com/event/page-2-state-seminar/
LOCATION:The Ohioan Hotel and Event Center\, 100 Green Meadows Drive South\, Lewis Center\, OH\, 43035\, United States
ATTACH;FMTTYPE=image/jpeg:https://dev423.robintek.com/wp-content/uploads/2026/03/State-Seminar-2026-2.jpg
END:VEVENT
BEGIN:VEVENT
DTSTART;TZID=America/New_York:20260503T093000
DTEND;TZID=America/New_York:20260503T140000
DTSTAMP:20260423T094408
CREATED:20260202T025622Z
LAST-MODIFIED:20260202T030400Z
UID:4424-1777800600-1777816800@dev423.robintek.com
SUMMARY:ABATE of OHIO\, Inc.    MOTORCYCLE AWARENESS RALLY
DESCRIPTION:AFTER RALLY PARTY —- OHIO BREWING COMPANY \n2pm – 5pm
URL:https://dev423.robintek.com/event/abate-of-ohio-inc-motorcycle-awareness-rally/
LOCATION:Ohio Brewing Company\, 421 E 2nd Ave\, Columbus\, OH\, 43201\, United States
ATTACH;FMTTYPE=image/jpeg:https://dev423.robintek.com/wp-content/uploads/2026/02/2026-Awareness-Rally.jpg
END:VEVENT
BEGIN:VEVENT
DTSTART;TZID=America/New_York:20260510T120000
DTEND;TZID=America/New_York:20260510T150000
DTSTAMP:20260423T094408
CREATED:20251222T183132Z
LAST-MODIFIED:20251222T190028Z
UID:3997-1778414400-1778425200@dev423.robintek.com
SUMMARY:Region 16 Membership Meeting
DESCRIPTION:
URL:https://dev423.robintek.com/event/region-16-membership-meeting-5/
LOCATION:Muddy’s Bar & Grill\, 335 E. Liberty St.\, Wooster\, OH\, 44691\, United States
END:VEVENT
BEGIN:VEVENT
DTSTART;TZID=America/New_York:20260510T130000
DTEND;TZID=America/New_York:20260510T150000
DTSTAMP:20260423T094408
CREATED:20251228T210025Z
LAST-MODIFIED:20251228T210025Z
UID:4035-1778418000-1778425200@dev423.robintek.com
SUMMARY:Region 8 Membership Meeting
DESCRIPTION:
URL:https://dev423.robintek.com/event/region-8-membership-meeting-11/
LOCATION:El Hefe\, 232 N Tuscarawas Ave\, Dover\, OH\, 44622\, United States
END:VEVENT
BEGIN:VEVENT
DTSTART;TZID=America/New_York:20260510T130000
DTEND;TZID=America/New_York:20260510T160000
DTSTAMP:20260423T094408
CREATED:20260130T184751Z
LAST-MODIFIED:20260130T184751Z
UID:4382-1778418000-1778428800@dev423.robintek.com
SUMMARY:Region 7 Membership Meeting
DESCRIPTION:
URL:https://dev423.robintek.com/event/region-7-membership-meeting-4/
LOCATION:Town Tavern\, 105 N. Main Street\, Clyde\, OH\, 43410\, United States
END:VEVENT
BEGIN:VEVENT
DTSTART;TZID=America/New_York:20260516T110000
DTEND;TZID=America/New_York:20260516T210000
DTSTAMP:20260423T094408
CREATED:20260106T200850Z
LAST-MODIFIED:20260106T202052Z
UID:4197-1778929200-1778965200@dev423.robintek.com
SUMMARY:Region 8 Dice Run
DESCRIPTION:registration begins @ 11 am \nlast bike out @ 12 pm \nlast bike in @ 5:30 pm \n$15 single / $25 couple
URL:https://dev423.robintek.com/event/region-8-dice-run/
LOCATION:Whiskey Stop\, 6509 Columbus Rd NE\, Louisville\, Ohio\, 44641
ATTACH;FMTTYPE=image/jpeg:https://dev423.robintek.com/wp-content/uploads/2026/01/R8-Dice-Run-2026.jpg
END:VEVENT
END:VCALENDAR